BEGIN:VCALENDAR
VERSION:2.0
PRODID:-//wp-events-plugin.com//7.2.3.1//EN
TZID:Europe/Amsterdam
X-WR-TIMEZONE:Europe/Amsterdam
BEGIN:VEVENT
UID:1825@petrakerkkapelle.nl
DTSTART:20250622T080000Z
DTEND:20250622T093000Z
DTSTAMP:20250323T205022Z
URL:https://www.petrakerkkapelle.nl/evenenementen/leesdienst-2-2025-06-22/
SUMMARY:Ds. C. Harinck
DESCRIPTION:
CATEGORIES:Kerkdiensten
END:VEVENT
END:VCALENDAR